BEGIN:VCALENDAR
VERSION:2.0
PRODID:-//Indie Gigging - ECPv6.13.2.1//NONSGML v1.0//EN
CALSCALE:GREGORIAN
METHOD:PUBLISH
X-WR-CALNAME:Indie Gigging
X-ORIGINAL-URL:https://indiegigging.com
X-WR-CALDESC:Events for Indie Gigging
REFRESH-INTERVAL;VALUE=DURATION:PT1H
X-Robots-Tag:noindex
X-PUBLISHED-TTL:PT1H
BEGIN:VTIMEZONE
TZID:America/Chicago
BEGIN:DAYLIGHT
TZOFFSETFROM:-0600
TZOFFSETTO:-0500
TZNAME:CDT
DTSTART:20250309T080000
END:DAYLIGHT
BEGIN:STANDARD
TZOFFSETFROM:-0500
TZOFFSETTO:-0600
TZNAME:CST
DTSTART:20251102T070000
END:STANDARD
END:VTIMEZONE
BEGIN:VEVENT
DTSTART;VALUE=DATE:20251005
DTEND;VALUE=DATE:20251008
DTSTAMP:20260423T023245
CREATED:20241127T215345Z
LAST-MODIFIED:20241127T215345Z
UID:1219-1759622400-1759881599@indiegigging.com
SUMMARY:IEBA
DESCRIPTION:IEBA and its annual conference stand alone in the entertainment business by showcasing a diverse and uniquely-crafted lineup of live entertainment and by hosting discussions with the entertainment industry’s leading innovators & decision makers.  IEBA’s Agents Alley brings buyers and agents together to discuss the specifics of the upcoming touring season. “The Buying Starts Here” slogan originated from this long standing IEBA tradition.
URL:https://indiegigging.com/music-industry-conferences/ieba/
LOCATION:Nashville\, TN\, Nashville\, Tennessee\, United States
END:VEVENT
BEGIN:VEVENT
DTSTART;VALUE=DATE:20250909
DTEND;VALUE=DATE:20250914
DTSTAMP:20260423T023245
CREATED:20241127T215345Z
LAST-MODIFIED:20241127T215345Z
UID:1221-1757376000-1757807999@indiegigging.com
SUMMARY:Americanafest
DESCRIPTION:Event Description
URL:https://indiegigging.com/music-industry-conferences/americanafest/
LOCATION:Nashville\, TN\, Nashville\, Tennessee\, United States
END:VEVENT
END:VCALENDAR